BEGIN:VCALENDAR
VERSION:2.0
PRODID:-//Экопоселение Ковчег - ECPv6.15.20//NONSGML v1.0//EN
CALSCALE:GREGORIAN
METHOD:PUBLISH
X-WR-CALNAME:Экопоселение Ковчег
X-ORIGINAL-URL:http://kovcheg-village.ru
X-WR-CALDESC:Мероприятия для Экопоселение Ковчег
REFRESH-INTERVAL;VALUE=DURATION:PT1H
X-Robots-Tag:noindex
X-PUBLISHED-TTL:PT1H
BEGIN:VTIMEZONE
TZID:Europe/Moscow
BEGIN:STANDARD
TZOFFSETFROM:+0300
TZOFFSETTO:+0300
TZNAME:MSK
DTSTART:20160101T000000
END:STANDARD
END:VTIMEZONE
BEGIN:VEVENT
DTSTART;TZID=Europe/Moscow:20180104T100000
DTEND;TZID=Europe/Moscow:20180104T170000
DTSTAMP:20260422T210323
CREATED:20171222T111331Z
LAST-MODIFIED:20171222T111331Z
UID:5112-1515060000-1515085200@kovcheg-village.ru
SUMMARY:ТЕАТРАЛЬНО-ГОСТЕВОЙ ДЕНЬ
DESCRIPTION:  \nПьеса «Призраки» Эдуардо де Филиппо (10+)\n  \nОдна из самых известных и любимых во всем мире. Зрелый и состоявшийся итальянский автор мастерски выписывает гротесковые ситуации наполняя сцены иронией и буффонадным юмором. \nГлавный герой — Паскуале\, вместе с женой Марией\, переезжает в квартиру\, которая является частью дворца 17 века\, чтобы основать пансион. Люди наблюдают странные вещи в этой квартире\, легенды и дурная слава окутывает этот дом\, но Паскуале затеял личную авантюру и бросает вызов всем призракам этого дома. \nБуффонные сцены\, страстные итальянские диалоги\, перемешиваются с драматическими размышлениями персонажей о любви\, семье и счастье. Неожиданный финал венчает эту пьесу и все события происходящие с Паскуале. \nРасширенная программа:\n\n10.00-11.00 — Знакомство приехавших с Ковчегом и между собой.\n11.00-12.30 — Экскурсия по поселению.\n13.00-14.00 — Ярмарка продуктов и изделий\, произведенных в ПРП Ковчег.\n14.00-15.00 — Вкусный вегетарианский обед помещика.\n15.00-17.30 — Спектакль театральной студии «Малахит»: «Призраки». 10+\n(для детей младше 10 лет на время спектакля предусмотрена отдельная программа)\n18.00 — Заключительный круг.\n18.30 — Отъезд из поселения.\n\nСтоимость участия в театрально-гостевом дне 1000 руб со взрослого. \nКоличество мест в театре ограничено. \nНе упустите возможность увидеть театр Ковчега! Средства от театрально-гостевого дня пойдут на развитие нашего театра и поселения. \nНаша встреча состоится 4 января 2018 г.  \nУсловия участия высылаются при регистрации\, заявки принимаются на электронный адрес pigalitsa2@yandex.ru  до 3 января 2018 года. \nКак добираться. \nПравила на территории поселения. \nТелефон: 8-961-124-97-15
URL:http://kovcheg-village.ru/event/teatralno-gostevoj-den/
LOCATION:Поселение Ковчег\, Калужская область\, Малоярославецкий район\, деревня Ковчег\, Российская Федерация
ATTACH;FMTTYPE=image/jpeg:http://kovcheg-village.ru/wp-content/uploads/2017/12/teatr_gost.jpg
ORGANIZER;CN="%D0%98%D1%80%D0%B8%D0%BD%D0%B0":MAILTO:pigalitsa2@yandex.ru
END:VEVENT
BEGIN:VEVENT
DTSTART;TZID=Europe/Moscow:20171216T100000
DTEND;TZID=Europe/Moscow:20171216T170000
DTSTAMP:20260422T210323
CREATED:20171208T183528Z
LAST-MODIFIED:20171208T183528Z
UID:5108-1513418400-1513443600@kovcheg-village.ru
SUMMARY:ГОСТЕВОЙ ДЕНЬ ДЛЯ ЖЕЛАЮЩИХ ВСТУПИТЬ В КОВЧЕГ
DESCRIPTION:«КАК СТАТЬ НАШИМ СОСЕДОМ»  \n?Если вы сознательно решили создать свое Родовое поместье \n?Если вас привлекает жизнь на природе в сообществе близких по духу людей \n?Если вы способны взять ответственность за свое здоровье и образование своих детей на себя \nМЫ ПРИГЛАШАЕМ В ГОСТИ 16 ДЕКАБРЯ !!!!!! \nВ ПРОГРАММЕ ВСТРЕЧИ:  \n-Знакомство с жителями нашего поселения\, прожившими более 10 лет на своей земле; \n— Реальные истории успешного переезда; \n— Экскурсия по поместьям\, свободным на сегодняшний день; \n— Совместное приготовление вегетарианского обеда; \n— Участие в общественно-полезных работах; \n— Ролевая игра «Как успешно переехать на землю» \nНаша встреча состоится 16 декабря. \nУсловия участия высылаются при регистрации\, заявки принимаются на электронный адрес pigalitsa2@yandex.ru до 14 декабря 2017 года \nКак добираться: \nСхема проезда: http://kovcheg-village.ru/obshhaya-rubrika/kak-dobiratsya/ \nЕсли вы едете на машине — то в поселении нужно подъезжать к Общему дому (едете до окончания столбов линии электричества (видны издалека) и далее в том же направлении впереди увидите в 200 метрах большое здание кремового цвета с красной крышей и красивыми наличниками — это и будет общий дом). \nПарковаться просьба до Общего дома — с противоположной стороны от крыльца (между ним и мастерскими). Спасибо! \nЕсли Вы едете на электричке:\nВстречаем всех с поезда-экспресса Москва-Калуга\, отходящего из Москвы в 7:48 (едем до ст. Малоярославец\, прибытие в 9:30). \nОтходит с Киевского вокзала\, билеты продаются в кассах дальнего следования (выходим из м. Киевская кольцевая\, и налево метров 30). Билеты летом лучше купить заранее\, зимой — минут за 40 до отправления. Мы вас встречаем у входа на станцию со стороны перрона и отвозим на машине в поселение. Водителю нужно будет оплатить 250 рублей за проезд в одну сторону. Стоимость полной машины (в нестандартное время) — 1000 рублей. Всячески поощряется кооперация с другими гостями на машинах (приезд и\, конечно\, отъезд). \nПравила на территории поселения \nВнимание! На всей территории экопоселении приняты определённые правила\, обязательные как для его жителей\, так и для гостей. \nЕсли вы по какой-то причине не готовы следовать какому-то из правил\, пожалуйста\, отложите визит. Заранее признательны!
URL:http://kovcheg-village.ru/event/gostevoj-den-dlya-zhelayushhih-vstupit-v-kovcheg/
LOCATION:Поселение Ковчег\, Калужская область\, Малоярославецкий район\, деревня Ковчег\, Российская Федерация
ATTACH;FMTTYPE=image/jpeg:http://kovcheg-village.ru/wp-content/uploads/2017/12/oJbL1CcRoog.jpg
ORGANIZER;CN="%D0%98%D1%80%D0%B8%D0%BD%D0%B0":MAILTO:pigalitsa2@yandex.ru
END:VEVENT
BEGIN:VEVENT
DTSTART;TZID=Europe/Moscow:20171104T100000
DTEND;TZID=Europe/Moscow:20171104T160000
DTSTAMP:20260422T210323
CREATED:20171023T182728Z
LAST-MODIFIED:20171024T113018Z
UID:4866-1509789600-1509811200@kovcheg-village.ru
SUMMARY:Гостевой день
DESCRIPTION:Важно! \nВ остальные дни можно приехать только по приглашению кого-то из поселенцев \nи конкретно к человеку\, который вас примет и ответит на все ваши вопросы. \nБольшая просьба не приезжать без приглашения! \nСпасибо за вежливое отношение! \nРасписание ярмарочно-гостевого дня:\nВажно! Большая просьба приезжать таким образом\, чтобы попадать к 10 утра и иметь возможность участвовать во всех мероприятиях с остальными гостями. \n\nРассказ о 16-летней истории Ковчега с ответами на вопросы.\nОбзорная экскурсия без посещения поместий.\nЯрмарка экологических продуктов и сувенирной продукции.\nВегетарианский обед.\n\nБеседы и ярмарка проходят в Общем доме\, расположенном в центре поселения. \nВнимание! Пожалуйста\, планируйте отъезд с остальными гостями. Если вы хотите задержаться – большая просьба договариваться об этом ЗАРАНЕЕ! Большое спасибо! \nАдрес для заявок pigalitsa2@yandex.ru \nТелефон: +7-961-124-97-15 (Ирина) \nВНИМАНИЕ! Просьба в заявке сразу указывать НОМЕР ТЕЛЕФОНА и КАКИМ СПОСОБОМ собираетесь до нас добираться (на машине или на экспрессе). \nПравила на территории поселения\nВнимание! На всей территории экопоселения приняты определённые правила\, обязательные как для его жителей\, так и для гостей. Если вы по какой-то причине не готовы следовать какому-то из правил\, пожалуйста\, отложите визит. Заранее признательны! \nКак добираться\nДобраться до нас можно двумя способами: \nНа машине по схеме\, лежащей на нашем сайте. \nЕсли вы едете на машине – то в поселении нужно подъезжать к общему дому (едете до окончания столбов линии электричества (видны издалека) и далее в том же направлении впереди увидите в 200 метрах большое здание кремового цвета с красной крышей и красивыми наличниками – это и будет общий дом). Парковаться просьба до общего дома – с противоположной стороны от крыльца (между ним и мастерскими). Спасибо! \nНа электричке. Встречаем всех с поезда-экспресса Москва-Калуга\, отходящего из Москвы в 7:48 (едем до ст. Малоярославец\, прибытие в 9:30). Отходит с Киевского вокзала\, билеты продаются в кассах дальнего следования (выходим из м. Киевская кольцевая\, и налево метров 30). Билеты летом лучше купить заранее\, зимой – минут за 40 до отправления. Мы вас встречаем у входа на станцию со стороны перрона и отвозим на машине в поселение. Водителю нужно будет оплатить 200 рублей за проезд в одну сторону. Стоимость полной машины (в нестандартное время) – 800 рублей. Всячески поощряется кооперация с другими гостями на машинах (приезд и\, конечно\, отъезд). \nДо встречи!
URL:http://kovcheg-village.ru/event/gostevoj-den/
LOCATION:Поселение Ковчег\, Калужская область\, Малоярославецкий район\, деревня Ковчег\, Российская Федерация
ATTACH;FMTTYPE=image/jpeg:http://kovcheg-village.ru/wp-content/uploads/2017/04/vgosti.jpg
ORGANIZER;CN="%D0%98%D1%80%D0%B8%D0%BD%D0%B0":MAILTO:pigalitsa2@yandex.ru
END:VEVENT
END:VCALENDAR