BEGIN:VCALENDAR
VERSION:2.0
PRODID:-//Экопоселение Ковчег - ECPv6.15.20//NONSGML v1.0//EN
CALSCALE:GREGORIAN
METHOD:PUBLISH
X-WR-CALNAME:Экопоселение Ковчег
X-ORIGINAL-URL:http://kovcheg-village.ru
X-WR-CALDESC:Мероприятия для Экопоселение Ковчег
REFRESH-INTERVAL;VALUE=DURATION:PT1H
X-Robots-Tag:noindex
X-PUBLISHED-TTL:PT1H
BEGIN:VTIMEZONE
TZID:Europe/Moscow
BEGIN:STANDARD
TZOFFSETFROM:+0300
TZOFFSETTO:+0300
TZNAME:MSK
DTSTART:20160101T000000
END:STANDARD
END:VTIMEZONE
BEGIN:VEVENT
DTSTART;TZID=Europe/Moscow:20171217T150000
DTEND;TZID=Europe/Moscow:20171217T173000
DTSTAMP:20260422T172440
CREATED:20171208T075445Z
LAST-MODIFIED:20171208T075641Z
UID:5098-1513522800-1513531800@kovcheg-village.ru
SUMMARY:Спектакль "Призраки"
DESCRIPTION:Новую серию спектаклей мы решили поставить в максимально удобное время для приезжих гостей нашего театра. У всех будет прекрасная возможность посетить представление и спокойно вернуться домой. Именно поэтому спектакли назначены в выходные дни и в дневное время. Спектакль идет 2 часа 30 минут с антрактом. В перерыве будет работать эко-буфет.) До встречи в театре!!!
URL:http://kovcheg-village.ru/event/spektakl-prizraki-3/
LOCATION:Поселение Ковчег\, Калужская область\, Малоярославецкий район\, деревня Ковчег\, Российская Федерация
ATTACH;FMTTYPE=image/jpeg:http://kovcheg-village.ru/wp-content/uploads/2017/12/anons.jpg
END:VEVENT
BEGIN:VEVENT
DTSTART;TZID=Europe/Moscow:20171201T170000
DTEND;TZID=Europe/Moscow:20171201T193000
DTSTAMP:20260422T172440
CREATED:20171128T194224Z
LAST-MODIFIED:20171128T194224Z
UID:4992-1512147600-1512156600@kovcheg-village.ru
SUMMARY:Спектакль "Призраки"
DESCRIPTION:Друзья! Театр «Малахит» на сносях и скоро свершиться второе рождение спектакля «Призраки». В августе 2016 года на сцене нашего театра-студии появилась итальянская комедия одного из самых известных драматургов. Мы сыграли его несколько раз для публики и решили сделать небольшой перерыв. ))) Никто из нас не предполагал\, что он исчезнет с нашей сцены больше чем на год. Теперь же мы закончили подготовительные репетиции и ждем встречи с публикой. Всех желающих мы приглашаем на второе рождение!!! \n1 декабря в 17:00 часов увидимся в театре!\nНапоминаю\, что спектакль обозначен — 10+\nСпектакль идет — 2:30 с антрактом.\nВ перерыве будет работать самый вкусный буфет в калужской области.))) Захватите немного денег\, чтобы вкусно провести время перерыва.)))\nВозьмите вторую обувь для большего комфорта.\nДо встречи!!!
URL:http://kovcheg-village.ru/event/spektakl-prizraki/
LOCATION:Поселение Ковчег\, Калужская область\, Малоярославецкий район\, деревня Ковчег\, Российская Федерация
ATTACH;FMTTYPE=image/jpeg:http://kovcheg-village.ru/wp-content/uploads/2017/11/prizrakisobitie.jpg
END:VEVENT
BEGIN:VEVENT
DTSTART;TZID=Europe/Moscow:20171111T160000
DTEND;TZID=Europe/Moscow:20171111T180000
DTSTAMP:20260422T172440
CREATED:20171030T085700Z
LAST-MODIFIED:20171108T172243Z
UID:4900-1510416000-1510423200@kovcheg-village.ru
SUMMARY:Спектакль "Сказка о царе Салтане"
DESCRIPTION:ВСЕМ\, ВСЕМ\, ВСЕМ! КТО НЕ УСПЕЛ! \nОстался последний из двух запланированнных спектаклей «Сказка о царе Салтане» ? 11 ноября (субботы) в 16:00 ⏳ \nПоследний шанс увидеть шедевр!  Приходите сами и приводите друзей! \n 
URL:http://kovcheg-village.ru/event/spektakl-skazka-o-tsare-saltane-2/
LOCATION:Поселение Ковчег\, Калужская область\, Малоярославецкий район\, деревня Ковчег\, Российская Федерация
ATTACH;FMTTYPE=image/jpeg:http://kovcheg-village.ru/wp-content/uploads/2017/10/saltan-nov.jpg
END:VEVENT
END:VCALENDAR