BEGIN:VCALENDAR
VERSION:2.0
PRODID:-//Экопоселение Ковчег - ECPv6.15.20//NONSGML v1.0//EN
CALSCALE:GREGORIAN
METHOD:PUBLISH
X-ORIGINAL-URL:http://kovcheg-village.ru
X-WR-CALDESC:Мероприятия для Экопоселение Ковчег
REFRESH-INTERVAL;VALUE=DURATION:PT1H
X-Robots-Tag:noindex
X-PUBLISHED-TTL:PT1H
BEGIN:VTIMEZONE
TZID:Europe/Moscow
BEGIN:STANDARD
TZOFFSETFROM:+0300
TZOFFSETTO:+0300
TZNAME:MSK
DTSTART:20160101T000000
END:STANDARD
END:VTIMEZONE
BEGIN:VEVENT
DTSTART;TZID=Europe/Moscow:20180828T180000
DTEND;TZID=Europe/Moscow:20180828T203000
DTSTAMP:20260422T160949
CREATED:20180820T101326Z
LAST-MODIFIED:20180820T101326Z
UID:5560-1535479200-1535488200@kovcheg-village.ru
SUMMARY:Спектакль "И снится чудный сон Татьяне" по роману А.Пушкина "Евгений Онегин"
DESCRIPTION:Театр-студия «Малахит» объявляет новую серию спектакля «И снится чудный сон Татьяне» по роману А.Пушкина «Евгений Онегин». Это будет завершающая серия летнего периода\, которая пройдет в оригинальном актерском составе. ))) Опять сюрприз!!! Такого варианта еще не было и больше не будет. Спешите посмотреть нашу последнюю премьерную работу!!!! 25 августа нашему поселению Ковчег исполняется 17 лет и в поселении весь день будет праздничная программа\, а 26 августа мы специально для гостей будем играть дневной спектакль (в 15:00 часов)\, который мы посвящаем дню рождения нашего любимого Ковчега. Добро пожаловать на наши представления!!! Следующие спектакли по роману Пушкина пока вообще не запланированы\, т.к. спектакль ждут некоторые изменения в актерском составе\, из-за начала нового учебного года и отъезда некоторых артистов на обучение. А сейчас спектакль можно увидеть в отличном актерском ансамбле! Успейте занять места в зале!))) Вход в зрительный зал после третьего звонка запрещен
URL:http://kovcheg-village.ru/event/spektakl/
LOCATION:Поселение Ковчег\, Калужская область\, Малоярославецкий район\, деревня Ковчег\, Российская Федерация
ATTACH;FMTTYPE=image/jpeg:http://kovcheg-village.ru/wp-content/uploads/2018/08/Onegin-aug.jpg
END:VEVENT
BEGIN:VEVENT
DTSTART;TZID=Europe/Moscow:20180826T150000
DTEND;TZID=Europe/Moscow:20180826T173000
DTSTAMP:20260422T160949
CREATED:20180820T101322Z
LAST-MODIFIED:20180820T101322Z
UID:5559-1535295600-1535304600@kovcheg-village.ru
SUMMARY:Спектакль "И снится чудный сон Татьяне" по роману А.Пушкина "Евгений Онегин"
DESCRIPTION:Театр-студия «Малахит» объявляет новую серию спектакля «И снится чудный сон Татьяне» по роману А.Пушкина «Евгений Онегин». Это будет завершающая серия летнего периода\, которая пройдет в оригинальном актерском составе. ))) Опять сюрприз!!! Такого варианта еще не было и больше не будет. Спешите посмотреть нашу последнюю премьерную работу!!!! 25 августа нашему поселению Ковчег исполняется 17 лет и в поселении весь день будет праздничная программа\, а 26 августа мы специально для гостей будем играть дневной спектакль (в 15:00 часов)\, который мы посвящаем дню рождения нашего любимого Ковчега. Добро пожаловать на наши представления!!! Следующие спектакли по роману Пушкина пока вообще не запланированы\, т.к. спектакль ждут некоторые изменения в актерском составе\, из-за начала нового учебного года и отъезда некоторых артистов на обучение. А сейчас спектакль можно увидеть в отличном актерском ансамбле! Успейте занять места в зале!))) Вход в зрительный зал после третьего звонка запрещен
URL:http://kovcheg-village.ru/event/spektakl-3/
LOCATION:Поселение Ковчег\, Калужская область\, Малоярославецкий район\, деревня Ковчег\, Российская Федерация
ATTACH;FMTTYPE=image/jpeg:http://kovcheg-village.ru/wp-content/uploads/2018/08/Onegin-aug.jpg
END:VEVENT
BEGIN:VEVENT
DTSTART;TZID=Europe/Moscow:20180823T180000
DTEND;TZID=Europe/Moscow:20180823T203000
DTSTAMP:20260422T160949
CREATED:20180820T101317Z
LAST-MODIFIED:20180820T101317Z
UID:5557-1535047200-1535056200@kovcheg-village.ru
SUMMARY:Спектакль "И снится чудный сон Татьяне" по роману А.Пушкина "Евгений Онегин"
DESCRIPTION:Театр-студия «Малахит» объявляет новую серию спектакля «И снится чудный сон Татьяне» по роману А.Пушкина «Евгений Онегин». Это будет завершающая серия летнего периода\, которая пройдет в оригинальном актерском составе. ))) Опять сюрприз!!! Такого варианта еще не было и больше не будет. Спешите посмотреть нашу последнюю премьерную работу!!!! 25 августа нашему поселению Ковчег исполняется 17 лет и в поселении весь день будет праздничная программа\, а 26 августа мы специально для гостей будем играть дневной спектакль (в 15:00 часов)\, который мы посвящаем дню рождения нашего любимого Ковчега. Добро пожаловать на наши представления!!! Следующие спектакли по роману Пушкина пока вообще не запланированы\, т.к. спектакль ждут некоторые изменения в актерском составе\, из-за начала нового учебного года и отъезда некоторых артистов на обучение. А сейчас спектакль можно увидеть в отличном актерском ансамбле! Успейте занять места в зале!))) Вход в зрительный зал после третьего звонка запрещен
URL:http://kovcheg-village.ru/event/spektakl-2/
LOCATION:Поселение Ковчег\, Калужская область\, Малоярославецкий район\, деревня Ковчег\, Российская Федерация
ATTACH;FMTTYPE=image/jpeg:http://kovcheg-village.ru/wp-content/uploads/2018/08/Onegin-aug.jpg
END:VEVENT
BEGIN:VEVENT
DTSTART;TZID=Europe/Moscow:20180726T180000
DTEND;TZID=Europe/Moscow:20180726T193000
DTSTAMP:20260422T160949
CREATED:20180720T120228Z
LAST-MODIFIED:20180720T120228Z
UID:5551-1532628000-1532633400@kovcheg-village.ru
SUMMARY:Спектакль "Алиса в стиле JAZZ"
DESCRIPTION:В нашем театре «Малахит» продолжается театральный сезон!\nМы начинаем играть один из легендарных спектаклей детской студии «Алиса в стиле JAZZ» по известной сказке Льюиса Кэрролла «Алиса в Стране Чудес«.\nЭтот спектакль получил Гран-При на очень крупном московском фестивале «Точка\, Точка\, Запятая…» Эта серия будет совсем небольшая. Назначено всего пять спектаклей в оригинальном составе и они будут для этого представления последними ((( Мы расстаемся с этим спектаклем по причине невозможности его играть в нужном актерском составе. Этот состав артистов теперь возможно собрать только в летний период (каникулы) и на очень короткий срок. Спектакль не игрался целый год\, но нашими усилиями он вновь восстановлен и готов к встрече с публикой.))))\nСпешите увидеть самую необычную\, фантастическую\, бессмысленно-философскую\, интерактивную\, танцевально-музыкальную\, ироничную\, шарадную\, остроумную\, «неправильную» сказку в исполнении артистов «детской» студии.
URL:http://kovcheg-village.ru/event/spektakl-alisa-v-stile-jazz-5/
LOCATION:Поселение Ковчег\, Калужская область\, Малоярославецкий район\, деревня Ковчег\, Российская Федерация
ATTACH;FMTTYPE=image/jpeg:http://kovcheg-village.ru/wp-content/uploads/2018/07/alisa-v-stile-jazz.jpg
END:VEVENT
BEGIN:VEVENT
DTSTART;TZID=Europe/Moscow:20180107T150000
DTEND;TZID=Europe/Moscow:20180107T173000
DTSTAMP:20260422T160949
CREATED:20171208T080436Z
LAST-MODIFIED:20171208T080436Z
UID:5106-1515337200-1515346200@kovcheg-village.ru
SUMMARY:Спектакль "Призраки"
DESCRIPTION:Новую серию спектаклей мы решили поставить в максимально удобное время для приезжих гостей нашего театра. У всех будет прекрасная возможность посетить представление и спокойно вернуться домой. Именно поэтому спектакли назначены в выходные дни и в дневное время. Спектакль идет 2 часа 30 минут с антрактом. В перерыве будет работать эко-буфет.) До встречи в театре!!!
URL:http://kovcheg-village.ru/event/spektakl-prizraki-6/
LOCATION:Поселение Ковчег\, Калужская область\, Малоярославецкий район\, деревня Ковчег\, Российская Федерация
ATTACH;FMTTYPE=image/jpeg:http://kovcheg-village.ru/wp-content/uploads/2017/12/anons.jpg
END:VEVENT
BEGIN:VEVENT
DTSTART;TZID=Europe/Moscow:20180105T150000
DTEND;TZID=Europe/Moscow:20180105T173000
DTSTAMP:20260422T160949
CREATED:20171208T080235Z
LAST-MODIFIED:20171208T080235Z
UID:5104-1515164400-1515173400@kovcheg-village.ru
SUMMARY:Спектакль "Призраки"
DESCRIPTION:Новую серию спектаклей мы решили поставить в максимально удобное время для приезжих гостей нашего театра. У всех будет прекрасная возможность посетить представление и спокойно вернуться домой. Именно поэтому спектакли назначены в выходные дни и в дневное время. Спектакль идет 2 часа 30 минут с антрактом. В перерыве будет работать эко-буфет.) До встречи в театре!!!
URL:http://kovcheg-village.ru/event/spektakl-prizraki-5/
LOCATION:Поселение Ковчег\, Калужская область\, Малоярославецкий район\, деревня Ковчег\, Российская Федерация
ATTACH;FMTTYPE=image/jpeg:http://kovcheg-village.ru/wp-content/uploads/2017/12/anons.jpg
END:VEVENT
BEGIN:VEVENT
DTSTART;TZID=Europe/Moscow:20180104T150000
DTEND;TZID=Europe/Moscow:20180104T173000
DTSTAMP:20260422T160949
CREATED:20171208T075931Z
LAST-MODIFIED:20171208T075931Z
UID:5102-1515078000-1515087000@kovcheg-village.ru
SUMMARY:Спектакль "Призраки"
DESCRIPTION:Новую серию спектаклей мы решили поставить в максимально удобное время для приезжих гостей нашего театра. У всех будет прекрасная возможность посетить представление и спокойно вернуться домой. Именно поэтому спектакли назначены в выходные дни и в дневное время. Спектакль идет 2 часа 30 минут с антрактом. В перерыве будет работать эко-буфет.) До встречи в театре!!!
URL:http://kovcheg-village.ru/event/spektakl-prizraki-4/
ATTACH;FMTTYPE=image/jpeg:http://kovcheg-village.ru/wp-content/uploads/2017/12/anons.jpg
END:VEVENT
BEGIN:VEVENT
DTSTART;TZID=Europe/Moscow:20180104T100000
DTEND;TZID=Europe/Moscow:20180104T170000
DTSTAMP:20260422T160949
CREATED:20171222T111331Z
LAST-MODIFIED:20171222T111331Z
UID:5112-1515060000-1515085200@kovcheg-village.ru
SUMMARY:ТЕАТРАЛЬНО-ГОСТЕВОЙ ДЕНЬ
DESCRIPTION:  \nПьеса «Призраки» Эдуардо де Филиппо (10+)\n  \nОдна из самых известных и любимых во всем мире. Зрелый и состоявшийся итальянский автор мастерски выписывает гротесковые ситуации наполняя сцены иронией и буффонадным юмором. \nГлавный герой — Паскуале\, вместе с женой Марией\, переезжает в квартиру\, которая является частью дворца 17 века\, чтобы основать пансион. Люди наблюдают странные вещи в этой квартире\, легенды и дурная слава окутывает этот дом\, но Паскуале затеял личную авантюру и бросает вызов всем призракам этого дома. \nБуффонные сцены\, страстные итальянские диалоги\, перемешиваются с драматическими размышлениями персонажей о любви\, семье и счастье. Неожиданный финал венчает эту пьесу и все события происходящие с Паскуале. \nРасширенная программа:\n\n10.00-11.00 — Знакомство приехавших с Ковчегом и между собой.\n11.00-12.30 — Экскурсия по поселению.\n13.00-14.00 — Ярмарка продуктов и изделий\, произведенных в ПРП Ковчег.\n14.00-15.00 — Вкусный вегетарианский обед помещика.\n15.00-17.30 — Спектакль театральной студии «Малахит»: «Призраки». 10+\n(для детей младше 10 лет на время спектакля предусмотрена отдельная программа)\n18.00 — Заключительный круг.\n18.30 — Отъезд из поселения.\n\nСтоимость участия в театрально-гостевом дне 1000 руб со взрослого. \nКоличество мест в театре ограничено. \nНе упустите возможность увидеть театр Ковчега! Средства от театрально-гостевого дня пойдут на развитие нашего театра и поселения. \nНаша встреча состоится 4 января 2018 г.  \nУсловия участия высылаются при регистрации\, заявки принимаются на электронный адрес pigalitsa2@yandex.ru  до 3 января 2018 года. \nКак добираться. \nПравила на территории поселения. \nТелефон: 8-961-124-97-15
URL:http://kovcheg-village.ru/event/teatralno-gostevoj-den/
LOCATION:Поселение Ковчег\, Калужская область\, Малоярославецкий район\, деревня Ковчег\, Российская Федерация
ATTACH;FMTTYPE=image/jpeg:http://kovcheg-village.ru/wp-content/uploads/2017/12/teatr_gost.jpg
ORGANIZER;CN="%D0%98%D1%80%D0%B8%D0%BD%D0%B0":MAILTO:pigalitsa2@yandex.ru
END:VEVENT
BEGIN:VEVENT
DTSTART;TZID=Europe/Moscow:20171217T150000
DTEND;TZID=Europe/Moscow:20171217T173000
DTSTAMP:20260422T160949
CREATED:20171208T075445Z
LAST-MODIFIED:20171208T075641Z
UID:5098-1513522800-1513531800@kovcheg-village.ru
SUMMARY:Спектакль "Призраки"
DESCRIPTION:Новую серию спектаклей мы решили поставить в максимально удобное время для приезжих гостей нашего театра. У всех будет прекрасная возможность посетить представление и спокойно вернуться домой. Именно поэтому спектакли назначены в выходные дни и в дневное время. Спектакль идет 2 часа 30 минут с антрактом. В перерыве будет работать эко-буфет.) До встречи в театре!!!
URL:http://kovcheg-village.ru/event/spektakl-prizraki-3/
LOCATION:Поселение Ковчег\, Калужская область\, Малоярославецкий район\, деревня Ковчег\, Российская Федерация
ATTACH;FMTTYPE=image/jpeg:http://kovcheg-village.ru/wp-content/uploads/2017/12/anons.jpg
END:VEVENT
BEGIN:VEVENT
DTSTART;TZID=Europe/Moscow:20171201T170000
DTEND;TZID=Europe/Moscow:20171201T193000
DTSTAMP:20260422T160949
CREATED:20171128T194224Z
LAST-MODIFIED:20171128T194224Z
UID:4992-1512147600-1512156600@kovcheg-village.ru
SUMMARY:Спектакль "Призраки"
DESCRIPTION:Друзья! Театр «Малахит» на сносях и скоро свершиться второе рождение спектакля «Призраки». В августе 2016 года на сцене нашего театра-студии появилась итальянская комедия одного из самых известных драматургов. Мы сыграли его несколько раз для публики и решили сделать небольшой перерыв. ))) Никто из нас не предполагал\, что он исчезнет с нашей сцены больше чем на год. Теперь же мы закончили подготовительные репетиции и ждем встречи с публикой. Всех желающих мы приглашаем на второе рождение!!! \n1 декабря в 17:00 часов увидимся в театре!\nНапоминаю\, что спектакль обозначен — 10+\nСпектакль идет — 2:30 с антрактом.\nВ перерыве будет работать самый вкусный буфет в калужской области.))) Захватите немного денег\, чтобы вкусно провести время перерыва.)))\nВозьмите вторую обувь для большего комфорта.\nДо встречи!!!
URL:http://kovcheg-village.ru/event/spektakl-prizraki/
LOCATION:Поселение Ковчег\, Калужская область\, Малоярославецкий район\, деревня Ковчег\, Российская Федерация
ATTACH;FMTTYPE=image/jpeg:http://kovcheg-village.ru/wp-content/uploads/2017/11/prizrakisobitie.jpg
END:VEVENT
BEGIN:VEVENT
DTSTART;TZID=Europe/Moscow:20171111T160000
DTEND;TZID=Europe/Moscow:20171111T180000
DTSTAMP:20260422T160949
CREATED:20171030T085700Z
LAST-MODIFIED:20171108T172243Z
UID:4900-1510416000-1510423200@kovcheg-village.ru
SUMMARY:Спектакль "Сказка о царе Салтане"
DESCRIPTION:ВСЕМ\, ВСЕМ\, ВСЕМ! КТО НЕ УСПЕЛ! \nОстался последний из двух запланированнных спектаклей «Сказка о царе Салтане» ? 11 ноября (субботы) в 16:00 ⏳ \nПоследний шанс увидеть шедевр!  Приходите сами и приводите друзей! \n 
URL:http://kovcheg-village.ru/event/spektakl-skazka-o-tsare-saltane-2/
LOCATION:Поселение Ковчег\, Калужская область\, Малоярославецкий район\, деревня Ковчег\, Российская Федерация
ATTACH;FMTTYPE=image/jpeg:http://kovcheg-village.ru/wp-content/uploads/2017/10/saltan-nov.jpg
END:VEVENT
END:VCALENDAR